BEGIN:VCALENDAR
VERSION:2.0
PRODID:-//wp-events-plugin.com//7.2.3.1//EN
TZID:Europe/Budapest
X-WR-TIMEZONE:Europe/Budapest
BEGIN:VEVENT
UID:24@rmda.hu
DTSTART:20260321T090000Z
DTEND:20260329T170000Z
DTSTAMP:20260305T155320Z
URL:https://rmda.hu/events/funkcionalis-trening-a-terapiaban-es-sportrehab
 ilitacioban-5/
SUMMARY:Funkcionális tréning a terápiában és sportrehabilitációban
DESCRIPTION:A TANFOLYAM MEGTELT! \n\n5 napos tanfolyam\, két hétvége\n20
 26-03-21 08:30-17:00\n2026-03-22 09:00-16:00\n2026-03-27 13:00-18:00\n2026
 -03-28 09:00-16:00\n2026-03-29 09:00-15:00\n\n
CATEGORIES:FTREHAB
LOCATION:Dávid Gerincklinika\, Versec sor 9.\, Budapest\, 1021\, Magyarors
 zág
X-APPLE-STRUCTURED-LOCATION;VALUE=URI;X-ADDRESS=Versec sor 9.\, Budapest\, 
 1021\, Magyarország;X-APPLE-RADIUS=100;X-TITLE=Dávid Gerincklinika:geo:0
 ,0
END:VEVENT
END:VCALENDAR