BEGIN:VCALENDAR
VERSION:2.0
PRODID:-//wp-events-plugin.com//7.2.3.1//EN
TZID:Europe/Budapest
X-WR-TIMEZONE:Europe/Budapest
BEGIN:VEVENT
UID:25@rmda.hu
DTSTART:20260606T090000Z
DTEND:20260606T170000Z
DTSTAMP:20260421T115638Z
URL:https://rmda.hu/events/trx-suspension-training-course-12/
SUMMARY:TRX Suspension Training Course
DESCRIPTION:\n\n
CATEGORIES:TRX STC
LOCATION:Peak Gym Aréna\, Kerepesi út 9.\, Budapest\, Magyarország
X-APPLE-STRUCTURED-LOCATION;VALUE=URI;X-ADDRESS=Kerepesi út 9.\, Budapest\
 , Magyarország;X-APPLE-RADIUS=100;X-TITLE=Peak Gym Aréna:geo:0,0
END:VEVENT
END:VCALENDAR