BEGIN:VCALENDAR
VERSION:2.0
PRODID:-//wp-events-plugin.com//7.2.3.1//EN
TZID:Europe/Budapest
X-WR-TIMEZONE:Europe/Budapest
BEGIN:VEVENT
UID:5@rmda.hu
DTSTART:20240302T080000Z
DTEND:20240302T160000Z
DTSTAMP:20240301T111831Z
URL:https://rmda.hu/events/trx-suspension-training-course-4/
SUMMARY:TRX Suspension Training Course
DESCRIPTION:A JELENTKEZÉS LEZÁRULT!\n\n
CATEGORIES:TRX STC
LOCATION:Peak Gym Aréna\, Kerepesi út 9.\, Budapest\, Magyarország
X-APPLE-STRUCTURED-LOCATION;VALUE=URI;X-ADDRESS=Kerepesi út 9.\, Budapest\
 , Magyarország;X-APPLE-RADIUS=100;X-TITLE=Peak Gym Aréna:geo:0,0
END:VEVENT
END:VCALENDAR